Package: DNAcopy Version: 1.83.0 Command: rm -rf DNAcopy.buildbin-libdir && mkdir DNAcopy.buildbin-libdir && /Users/biocbuild/BBS/utils/build-universal.sh DNAcopy_1.83.0.tar.gz /Library/Frameworks/R.framework/Resources/bin/R DNAcopy.buildbin-libdir StartedAt: 2025-10-29 01:32:38 -0400 (Wed, 29 Oct 2025) EndedAt: 2025-10-29 01:32:51 -0400 (Wed, 29 Oct 2025) EllapsedTime: 12.8 seconds RetCode: 0 Status: OK PackageFile: DNAcopy_1.83.0.tgz PackageFileSize: 498.8 KiB