Package: DNAcopy Version: 1.83.0 Command: /Library/Frameworks/R.framework/Resources/bin/R CMD INSTALL DNAcopy StartedAt: 2025-10-06 15:01:26 -0400 (Mon, 06 Oct 2025) EndedAt: 2025-10-06 15:01:32 -0400 (Mon, 06 Oct 2025) EllapsedTime: 5.3 seconds RetCode: 0 Status: OK