Package: DNAcopy Version: 1.83.0 Command: /Library/Frameworks/R.framework/Resources/bin/R CMD build --keep-empty-dirs --no-resave-data DNAcopy StartedAt: 2025-10-05 16:15:06 -0400 (Sun, 05 Oct 2025) EndedAt: 2025-10-05 16:15:13 -0400 (Sun, 05 Oct 2025) EllapsedTime: 7.1 seconds RetCode: 0 Status: OK PackageFile: DNAcopy_1.83.0.tar.gz PackageFileSize: 404.5 KiB