Package: DNAcopy Version: 1.83.0 Command: rm -rf DNAcopy.buildbin-libdir && mkdir DNAcopy.buildbin-libdir && /Users/biocbuild/BBS/utils/build-universal.sh DNAcopy_1.83.0.tar.gz /Library/Frameworks/R.framework/Resources/bin/R DNAcopy.buildbin-libdir StartedAt: 2025-10-05 22:41:21 -0400 (Sun, 05 Oct 2025) EndedAt: 2025-10-05 22:41:25 -0400 (Sun, 05 Oct 2025) EllapsedTime: 4.1 seconds RetCode: 0 Status: OK PackageFile: DNAcopy_1.83.0.tgz PackageFileSize: 499.7 KiB