Package: DNABarcodes Version: 1.39.0 Command: /home/biocbuild/R/R/bin/R CMD INSTALL DNABarcodes StartedAt: 2025-09-29 20:33:27 -0000 (Mon, 29 Sep 2025) EndedAt: 2025-09-29 20:35:17 -0000 (Mon, 29 Sep 2025) EllapsedTime: 110.2 seconds RetCode: 0 Status: OK