Package: DNABarcodes Version: 1.39.0 Command: /home/biocbuild/R/R/bin/R CMD build --keep-empty-dirs --no-resave-data DNABarcodes StartedAt: 2025-09-29 23:37:22 -0000 (Mon, 29 Sep 2025) EndedAt: 2025-09-29 23:39:14 -0000 (Mon, 29 Sep 2025) EllapsedTime: 112.0 seconds RetCode: 0 Status: OK PackageFile: DNABarcodes_1.39.0.tar.gz PackageFileSize: 371.9 KiB