Package: DNABarcodes Version: 1.41.0 Command: /home/biocbuild/bbs-3.23-bioc/R/bin/R CMD INSTALL DNABarcodes StartedAt: 2025-10-31 15:13:05 -0400 (Fri, 31 Oct 2025) EndedAt: 2025-10-31 15:14:19 -0400 (Fri, 31 Oct 2025) EllapsedTime: 73.9 seconds RetCode: 0 Status: OK