Package: DNABarcodes Version: 1.41.0 Command: /home/biocbuild/bbs-3.23-bioc/R/bin/R CMD check --install=check:DNABarcodes.install-out.txt --library=/home/biocbuild/bbs-3.23-bioc/R/site-library --timings DNABarcodes_1.41.0.tar.gz StartedAt: 2025-10-31 22:55:52 -0400 (Fri, 31 Oct 2025) EndedAt: 2025-10-31 22:56:54 -0400 (Fri, 31 Oct 2025) EllapsedTime: 62.1 seconds RetCode: 0 Status: OK CheckDir: DNABarcodes.Rcheck Warnings: 0