Package: DNABarcodes Version: 1.41.0 Command: /home/biocbuild/bbs-3.23-bioc/R/bin/R CMD build --keep-empty-dirs --no-resave-data DNABarcodes StartedAt: 2025-10-31 17:32:52 -0400 (Fri, 31 Oct 2025) EndedAt: 2025-10-31 17:34:18 -0400 (Fri, 31 Oct 2025) EllapsedTime: 85.1 seconds RetCode: 0 Status: OK PackageFile: DNABarcodes_1.41.0.tar.gz PackageFileSize: 347.8 KiB