Package: DNABarcodeCompatibility Version: 1.25.0 Command: /home/biocbuild/R/R/bin/R CMD INSTALL DNABarcodeCompatibility StartedAt: 2025-09-29 20:39:20 -0000 (Mon, 29 Sep 2025) EndedAt: 2025-09-29 20:40:04 -0000 (Mon, 29 Sep 2025) EllapsedTime: 43.7 seconds RetCode: 0 Status: OK