Package: DNABarcodeCompatibility Version: 1.25.0 Command: /home/biocbuild/R/R/bin/R CMD build --keep-empty-dirs --no-resave-data DNABarcodeCompatibility StartedAt: 2025-09-29 23:37:05 -0000 (Mon, 29 Sep 2025) EndedAt: 2025-09-29 23:38:47 -0000 (Mon, 29 Sep 2025) EllapsedTime: 102.0 seconds RetCode: 0 Status: OK PackageFile: DNABarcodeCompatibility_1.25.0.tar.gz PackageFileSize: 284.9 KiB