Package: DNABarcodeCompatibility Version: 1.25.0 Command: F:\biocbuild\bbs-3.22-bioc\R\bin\R.exe CMD INSTALL DNABarcodeCompatibility StartedAt: 2025-08-14 15:27:53 -0400 (Thu, 14 Aug 2025) EndedAt: 2025-08-14 15:31:46 -0400 (Thu, 14 Aug 2025) EllapsedTime: 232.7 seconds RetCode: 0 Status: OK