Package: DNABarcodeCompatibility Version: 1.25.0 Command: rm -rf DNABarcodeCompatibility.buildbin-libdir && mkdir DNABarcodeCompatibility.buildbin-libdir && F:\biocbuild\bbs-3.22-bioc\R\bin\R.exe CMD INSTALL --build --library=DNABarcodeCompatibility.buildbin-libdir DNABarcodeCompatibility_1.25.0.tar.gz StartedAt: 2025-08-15 10:10:40 -0400 (Fri, 15 Aug 2025) EndedAt: 2025-08-15 10:15:48 -0400 (Fri, 15 Aug 2025) EllapsedTime: 308.0 seconds RetCode: 0 Status: OK PackageFile: DNABarcodeCompatibility_1.25.0.zip PackageFileSize: 715.4 KiB