Package: DNABarcodeCompatibility Version: 1.27.0 Command: /home/biocbuild/bbs-3.23-bioc/R/bin/R CMD INSTALL DNABarcodeCompatibility StartedAt: 2025-11-03 15:08:45 -0500 (Mon, 03 Nov 2025) EndedAt: 2025-11-03 15:09:21 -0500 (Mon, 03 Nov 2025) EllapsedTime: 36.3 seconds RetCode: 0 Status: OK