Package: DNABarcodeCompatibility Version: 1.27.0 Command: /home/biocbuild/bbs-3.23-bioc/R/bin/R CMD check --install=check:DNABarcodeCompatibility.install-out.txt --library=/home/biocbuild/bbs-3.23-bioc/R/site-library --timings DNABarcodeCompatibility_1.27.0.tar.gz StartedAt: 2025-11-02 22:47:07 -0500 (Sun, 02 Nov 2025) EndedAt: 2025-11-02 22:48:27 -0500 (Sun, 02 Nov 2025) EllapsedTime: 80.2 seconds RetCode: 0 Status: OK CheckDir: DNABarcodeCompatibility.Rcheck Warnings: 0