Package: DMRcate Version: 3.7.0 Command: /Library/Frameworks/R.framework/Resources/bin/R CMD INSTALL DMRcate StartedAt: 2025-11-21 15:33:53 -0500 (Fri, 21 Nov 2025) EndedAt: 2025-11-21 15:34:14 -0500 (Fri, 21 Nov 2025) EllapsedTime: 20.7 seconds RetCode: 0 Status: OK