Package: DMRcate Version: 3.7.0 Command: /Library/Frameworks/R.framework/Resources/bin/R CMD build --keep-empty-dirs --no-resave-data DMRcate StartedAt: 2025-11-21 16:11:19 -0500 (Fri, 21 Nov 2025) EndedAt: 2025-11-21 16:18:07 -0500 (Fri, 21 Nov 2025) EllapsedTime: 408.4 seconds RetCode: 0 Status: OK PackageFile: DMRcate_3.7.0.tar.gz PackageFileSize: 818.4 KiB