Package: DMRcate Version: 3.7.0 Command: rm -rf DMRcate.buildbin-libdir && mkdir DMRcate.buildbin-libdir && /Users/biocbuild/BBS/utils/build-universal.sh DMRcate_3.7.0.tar.gz /Library/Frameworks/R.framework/Resources/bin/R DMRcate.buildbin-libdir StartedAt: 2025-11-21 23:30:17 -0500 (Fri, 21 Nov 2025) EndedAt: 2025-11-21 23:30:50 -0500 (Fri, 21 Nov 2025) EllapsedTime: 32.8 seconds RetCode: 0 Status: OK PackageFile: DMRcate_3.7.0.tgz PackageFileSize: 1.157 MiB