Package: DMRcaller Version: 1.43.1 Command: /home/biocbuild/bbs-3.23-bioc/R/bin/R CMD INSTALL DMRcaller StartedAt: 2025-11-23 15:29:00 -0500 (Sun, 23 Nov 2025) EndedAt: 2025-11-23 15:29:33 -0500 (Sun, 23 Nov 2025) EllapsedTime: 33.2 seconds RetCode: 0 Status: OK