Package: DMRScan Version: 1.33.0 Command: /home/biocbuild/bbs-3.23-bioc/R/bin/R CMD INSTALL DMRScan StartedAt: 2025-11-06 15:23:10 -0500 (Thu, 06 Nov 2025) EndedAt: 2025-11-06 15:23:24 -0500 (Thu, 06 Nov 2025) EllapsedTime: 14.3 seconds RetCode: 0 Status: OK