Package: DMRScan Version: 1.33.0 Command: /home/biocbuild/bbs-3.23-bioc/R/bin/R CMD build --keep-empty-dirs --no-resave-data DMRScan StartedAt: 2025-11-06 17:16:54 -0500 (Thu, 06 Nov 2025) EndedAt: 2025-11-06 17:18:24 -0500 (Thu, 06 Nov 2025) EllapsedTime: 90.1 seconds RetCode: 0 Status: OK PackageFile: DMRScan_1.33.0.tar.gz PackageFileSize: 3.346 MiB