Package: DMRScan Version: 1.31.1 Command: /Library/Frameworks/R.framework/Resources/bin/R CMD INSTALL DMRScan StartedAt: 2025-10-06 15:18:03 -0400 (Mon, 06 Oct 2025) EndedAt: 2025-10-06 15:18:25 -0400 (Mon, 06 Oct 2025) EllapsedTime: 22.1 seconds RetCode: 0 Status: OK