Package: DMRScan Version: 1.31.1 Command: rm -rf DMRScan.buildbin-libdir && mkdir DMRScan.buildbin-libdir && /Users/biocbuild/BBS/utils/build-universal.sh DMRScan_1.31.1.tar.gz /Library/Frameworks/R.framework/Resources/bin/R DMRScan.buildbin-libdir StartedAt: 2025-10-07 02:07:40 -0400 (Tue, 07 Oct 2025) EndedAt: 2025-10-07 02:08:07 -0400 (Tue, 07 Oct 2025) EllapsedTime: 26.4 seconds RetCode: 0 Status: OK PackageFile: DMRScan_1.31.1.tgz PackageFileSize: 5.08 MiB