Package: DMRScan Version: 1.31.1 Command: /Library/Frameworks/R.framework/Resources/bin/R CMD INSTALL DMRScan StartedAt: 2025-09-21 15:11:03 -0400 (Sun, 21 Sep 2025) EndedAt: 2025-09-21 15:11:09 -0400 (Sun, 21 Sep 2025) EllapsedTime: 6.2 seconds RetCode: 0 Status: OK