Package: DMCHMM Version: 1.31.0 Command: /home/biocbuild/R/R/bin/R CMD INSTALL DMCHMM StartedAt: 2025-10-23 20:50:22 -0000 (Thu, 23 Oct 2025) EndedAt: 2025-10-23 20:51:06 -0000 (Thu, 23 Oct 2025) EllapsedTime: 44.3 seconds RetCode: 0 Status: OK