Package: DMCHMM Version: 1.31.0 Command: /home/biocbuild/R/R/bin/R CMD build --keep-empty-dirs --no-resave-data DMCHMM StartedAt: 2025-10-20 23:24:51 -0000 (Mon, 20 Oct 2025) EndedAt: 2025-10-20 23:26:31 -0000 (Mon, 20 Oct 2025) EllapsedTime: 100.0 seconds RetCode: 0 Status: OK PackageFile: DMCHMM_1.31.0.tar.gz PackageFileSize: 744.2 KiB