Package: DMCHMM Version: 1.31.0 Command: /home/biocbuild/bbs-3.22-bioc/R/bin/R CMD check --install=check:DMCHMM.install-out.txt --library=/home/biocbuild/bbs-3.22-bioc/R/site-library --timings DMCHMM_1.31.0.tar.gz StartedAt: 2025-10-15 23:53:33 -0400 (Wed, 15 Oct 2025) EndedAt: 2025-10-16 00:01:16 -0400 (Thu, 16 Oct 2025) EllapsedTime: 462.4 seconds RetCode: 0 Status: OK CheckDir: DMCHMM.Rcheck Warnings: 0