Package: DMCHMM Version: 1.33.0 Command: /home/biocbuild/bbs-3.23-bioc/R/bin/R CMD INSTALL DMCHMM StartedAt: 2025-11-05 15:35:48 -0500 (Wed, 05 Nov 2025) EndedAt: 2025-11-05 15:36:21 -0500 (Wed, 05 Nov 2025) EllapsedTime: 32.9 seconds RetCode: 0 Status: OK