Package: DMCHMM Version: 1.33.0 Command: /home/biocbuild/bbs-3.23-bioc/R/bin/R CMD build --keep-empty-dirs --no-resave-data DMCHMM StartedAt: 2025-11-05 17:23:29 -0500 (Wed, 05 Nov 2025) EndedAt: 2025-11-05 17:24:42 -0500 (Wed, 05 Nov 2025) EllapsedTime: 73.1 seconds RetCode: 0 Status: OK PackageFile: DMCHMM_1.33.0.tar.gz PackageFileSize: 743.8 KiB