Package: DMCFB Version: 1.25.0 Command: /home/biocbuild/bbs-3.23-bioc/R/bin/R CMD INSTALL DMCFB StartedAt: 2025-11-20 15:26:29 -0500 (Thu, 20 Nov 2025) EndedAt: 2025-11-20 15:27:05 -0500 (Thu, 20 Nov 2025) EllapsedTime: 36.3 seconds RetCode: 0 Status: OK