Package: DMCFB Version: 1.25.0 Command: /home/biocbuild/bbs-3.23-bioc/R/bin/R CMD build --keep-empty-dirs --no-resave-data DMCFB StartedAt: 2025-11-20 17:20:45 -0500 (Thu, 20 Nov 2025) EndedAt: 2025-11-20 17:22:02 -0500 (Thu, 20 Nov 2025) EllapsedTime: 77.1 seconds RetCode: 0 Status: OK PackageFile: DMCFB_1.25.0.tar.gz PackageFileSize: 1.053 MiB