Package: DMCFB Version: 1.23.0 Command: /Library/Frameworks/R.framework/Resources/bin/R CMD INSTALL DMCFB StartedAt: 2025-10-24 15:34:39 -0400 (Fri, 24 Oct 2025) EndedAt: 2025-10-24 15:35:27 -0400 (Fri, 24 Oct 2025) EllapsedTime: 48.0 seconds RetCode: 0 Status: OK