Package: DMCFB Version: 1.23.0 Command: /Library/Frameworks/R.framework/Resources/bin/R CMD build --keep-empty-dirs --no-resave-data DMCFB StartedAt: 2025-10-27 16:45:07 -0400 (Mon, 27 Oct 2025) EndedAt: 2025-10-27 16:46:53 -0400 (Mon, 27 Oct 2025) EllapsedTime: 105.9 seconds RetCode: 0 Status: OK PackageFile: DMCFB_1.23.0.tar.gz PackageFileSize: 1.067 MiB