Package: DMCFB Version: 1.23.0 Command: /Library/Frameworks/R.framework/Resources/bin/R CMD INSTALL DMCFB StartedAt: 2025-10-10 15:18:26 -0400 (Fri, 10 Oct 2025) EndedAt: 2025-10-10 15:18:41 -0400 (Fri, 10 Oct 2025) EllapsedTime: 15.0 seconds RetCode: 0 Status: OK