Package: DMCFB Version: 1.23.0 Command: rm -rf DMCFB.buildbin-libdir && mkdir DMCFB.buildbin-libdir && /Users/biocbuild/BBS/utils/build-universal.sh DMCFB_1.23.0.tar.gz /Library/Frameworks/R.framework/Resources/bin/R DMCFB.buildbin-libdir StartedAt: 2025-10-10 22:39:14 -0400 (Fri, 10 Oct 2025) EndedAt: 2025-10-10 22:39:30 -0400 (Fri, 10 Oct 2025) EllapsedTime: 16.3 seconds RetCode: 0 Status: OK PackageFile: DMCFB_1.23.0.tgz PackageFileSize: 1.21 MiB