Package: DFplyr Version: 1.3.2 Command: /home/biocbuild/R/R/bin/R CMD INSTALL DFplyr StartedAt: 2025-10-23 20:30:56 -0000 (Thu, 23 Oct 2025) EndedAt: 2025-10-23 20:31:06 -0000 (Thu, 23 Oct 2025) EllapsedTime: 9.8 seconds RetCode: 0 Status: OK