Package: DFplyr Version: 1.3.2 Command: /home/biocbuild/R/R/bin/R CMD build --keep-empty-dirs --no-resave-data DFplyr StartedAt: 2025-10-20 23:21:48 -0000 (Mon, 20 Oct 2025) EndedAt: 2025-10-20 23:22:12 -0000 (Mon, 20 Oct 2025) EllapsedTime: 24.0 seconds RetCode: 0 Status: OK PackageFile: DFplyr_1.3.2.tar.gz PackageFileSize: 461.3 KiB