Package: DFplyr Version: 1.3.2 Command: /home/biocbuild/bbs-3.22-bioc/R/bin/R CMD check --install=check:DFplyr.install-out.txt --library=/home/biocbuild/bbs-3.22-bioc/R/site-library --timings DFplyr_1.3.2.tar.gz StartedAt: 2025-10-05 23:19:11 -0400 (Sun, 05 Oct 2025) EndedAt: 2025-10-05 23:20:24 -0400 (Sun, 05 Oct 2025) EllapsedTime: 73.1 seconds RetCode: 0 Status: OK CheckDir: DFplyr.Rcheck Warnings: 0