Package: DFplyr Version: 1.5.0 Command: /home/biocbuild/bbs-3.23-bioc/R/bin/R CMD check --install=check:DFplyr.install-out.txt --library=/home/biocbuild/bbs-3.23-bioc/R/site-library --timings DFplyr_1.5.0.tar.gz StartedAt: 2025-11-20 22:59:27 -0500 (Thu, 20 Nov 2025) EndedAt: 2025-11-20 23:00:39 -0500 (Thu, 20 Nov 2025) EllapsedTime: 72.1 seconds RetCode: 0 Status: OK CheckDir: DFplyr.Rcheck Warnings: 0