Package: DFplyr Version: 1.5.0 Command: /home/biocbuild/bbs-3.23-bioc/R/bin/R CMD build --keep-empty-dirs --no-resave-data DFplyr StartedAt: 2025-11-20 17:18:17 -0500 (Thu, 20 Nov 2025) EndedAt: 2025-11-20 17:18:38 -0500 (Thu, 20 Nov 2025) EllapsedTime: 21.0 seconds RetCode: 0 Status: OK PackageFile: DFplyr_1.5.0.tar.gz PackageFileSize: 395.5 KiB