Package: DFP Version: 1.67.0 Command: /Library/Frameworks/R.framework/Resources/bin/R CMD build --keep-empty-dirs --no-resave-data DFP StartedAt: 2025-10-12 16:50:36 -0400 (Sun, 12 Oct 2025) EndedAt: 2025-10-12 16:51:04 -0400 (Sun, 12 Oct 2025) EllapsedTime: 27.6 seconds RetCode: 0 Status: OK PackageFile: DFP_1.67.0.tar.gz PackageFileSize: 496.3 KiB