Package: DExMA Version: 1.19.0 Command: /home/biocbuild/bbs-3.23-bioc/R/bin/R CMD INSTALL DExMA StartedAt: 2025-11-07 15:35:25 -0500 (Fri, 07 Nov 2025) EndedAt: 2025-11-07 15:35:57 -0500 (Fri, 07 Nov 2025) EllapsedTime: 32.2 seconds RetCode: 0 Status: OK