Package: DExMA Version: 1.19.0 Command: /home/biocbuild/bbs-3.23-bioc/R/bin/R CMD build --keep-empty-dirs --no-resave-data DExMA StartedAt: 2025-11-07 17:13:31 -0500 (Fri, 07 Nov 2025) EndedAt: 2025-11-07 17:14:26 -0500 (Fri, 07 Nov 2025) EllapsedTime: 55.0 seconds RetCode: 0 Status: OK PackageFile: DExMA_1.19.0.tar.gz PackageFileSize: 316.2 KiB