Package: DExMA Version: 1.17.0 Command: /Library/Frameworks/R.framework/Resources/bin/R CMD INSTALL DExMA StartedAt: 2025-10-10 15:36:47 -0400 (Fri, 10 Oct 2025) EndedAt: 2025-10-10 15:37:31 -0400 (Fri, 10 Oct 2025) EllapsedTime: 44.9 seconds RetCode: 0 Status: OK