Package: DExMA Version: 1.17.0 Command: /Library/Frameworks/R.framework/Resources/bin/R CMD build --keep-empty-dirs --no-resave-data DExMA StartedAt: 2025-10-10 16:55:07 -0400 (Fri, 10 Oct 2025) EndedAt: 2025-10-10 16:56:39 -0400 (Fri, 10 Oct 2025) EllapsedTime: 91.9 seconds RetCode: 0 Status: OK PackageFile: DExMA_1.17.0.tar.gz PackageFileSize: 314.6 KiB