Package: DExMA Version: 1.17.0 Command: rm -rf DExMA.buildbin-libdir && mkdir DExMA.buildbin-libdir && /Users/biocbuild/BBS/utils/build-universal.sh DExMA_1.17.0.tar.gz /Library/Frameworks/R.framework/Resources/bin/R DExMA.buildbin-libdir StartedAt: 2025-10-11 02:26:30 -0400 (Sat, 11 Oct 2025) EndedAt: 2025-10-11 02:27:19 -0400 (Sat, 11 Oct 2025) EllapsedTime: 48.4 seconds RetCode: 0 Status: OK PackageFile: DExMA_1.17.0.tgz PackageFileSize: 403.1 KiB