Package: DEsubs Version: 1.37.0 Command: rm -rf DEsubs.buildbin-libdir && mkdir DEsubs.buildbin-libdir && /Users/biocbuild/BBS/utils/build-universal.sh DEsubs_1.37.0.tar.gz /Library/Frameworks/R.framework/Resources/bin/R DEsubs.buildbin-libdir StartedAt: 2025-11-21 23:29:47 -0500 (Fri, 21 Nov 2025) EndedAt: 2025-11-21 23:30:01 -0500 (Fri, 21 Nov 2025) EllapsedTime: 14.3 seconds RetCode: 0 Status: OK PackageFile: DEsubs_1.37.0.tgz PackageFileSize: 3.745 MiB