Package: DEsingle Version: 1.29.0 Command: /home/biocbuild/bbs-3.22-bioc/R/bin/R CMD INSTALL DEsingle StartedAt: 2025-10-06 15:06:50 -0400 (Mon, 06 Oct 2025) EndedAt: 2025-10-06 15:07:24 -0400 (Mon, 06 Oct 2025) EllapsedTime: 34.0 seconds RetCode: 0 Status: OK