Package: DEsingle Version: 1.29.0 Command: /home/biocbuild/bbs-3.22-bioc/R/bin/R CMD build --keep-empty-dirs --no-resave-data --md5 DEsingle StartedAt: 2025-10-06 17:17:09 -0400 (Mon, 06 Oct 2025) EndedAt: 2025-10-06 17:17:21 -0400 (Mon, 06 Oct 2025) EllapsedTime: 12.0 seconds RetCode: 0 Status: OK PackageFile: DEsingle_1.29.0.tar.gz PackageFileSize: 380.6 KiB