Package: DEqMS Version: 1.29.0 Command: /Library/Frameworks/R.framework/Resources/bin/R CMD INSTALL DEqMS StartedAt: 2025-11-21 15:05:07 -0500 (Fri, 21 Nov 2025) EndedAt: 2025-11-21 15:05:10 -0500 (Fri, 21 Nov 2025) EllapsedTime: 2.6 seconds RetCode: 0 Status: OK